BEGIN:VCALENDAR
VERSION:2.0
PRODID:-//Magnificent Mutts Rescue - ECPv6.15.12.2//NONSGML v1.0//EN
CALSCALE:GREGORIAN
METHOD:PUBLISH
X-ORIGINAL-URL:https://www.magnificentmutts.org
X-WR-CALDESC:Events for Magnificent Mutts Rescue
REFRESH-INTERVAL;VALUE=DURATION:PT1H
X-Robots-Tag:noindex
X-PUBLISHED-TTL:PT1H
BEGIN:VTIMEZONE
TZID:America/Chicago
BEGIN:DAYLIGHT
TZOFFSETFROM:-0600
TZOFFSETTO:-0500
TZNAME:CDT
DTSTART:20220313T080000
END:DAYLIGHT
BEGIN:STANDARD
TZOFFSETFROM:-0500
TZOFFSETTO:-0600
TZNAME:CST
DTSTART:20221106T070000
END:STANDARD
BEGIN:DAYLIGHT
TZOFFSETFROM:-0600
TZOFFSETTO:-0500
TZNAME:CDT
DTSTART:20230312T080000
END:DAYLIGHT
BEGIN:STANDARD
TZOFFSETFROM:-0500
TZOFFSETTO:-0600
TZNAME:CST
DTSTART:20231105T070000
END:STANDARD
BEGIN:DAYLIGHT
TZOFFSETFROM:-0600
TZOFFSETTO:-0500
TZNAME:CDT
DTSTART:20240310T080000
END:DAYLIGHT
BEGIN:STANDARD
TZOFFSETFROM:-0500
TZOFFSETTO:-0600
TZNAME:CST
DTSTART:20241103T070000
END:STANDARD
END:VTIMEZONE
BEGIN:VEVENT
DTSTART;TZID=America/Chicago:20230701T200000
DTEND;TZID=America/Chicago:20230831T200000
DTSTAMP:20260419T200130
CREATED:20230701T221355Z
LAST-MODIFIED:20230708T164228Z
UID:7090-1688241600-1693512000@www.magnificentmutts.org
SUMMARY:Queen of Hearts Raffle
DESCRIPTION:❤️ Queen of Hearts Raffle ❤️\n\n\n\n\n\n\n\nTICKETS: $1.00 Each CASH ONLY \n\n\n\n\nTickets can be purchased through MM founder Linda Latelle or at Yacko’s Bar\n\n\n\nUnlimited quantity can be purchased\n\n\n\nNo group or corporate names allowed\n\n\n\nNo labels allowed\n\n\n\n\nStarting July 17th\, 1 winning ticket will be drawn at 8pm every Monday until the game ends.(Except Holidays) \n\n\n\n\n\n\n\n\n\n\n\nThe Queen of Hearts Game uses a progressive jackpot! The game consists of a deck of 52 cards plus 2 jokers. Total of 54 cards. The cards are all sealed in a display case in the bar. Once the QoH is chosen\, a new game is started with a new deck of cards. If the second Joker is picked before the Queen of Hearts (“QoH”)\, the game will rollover\, only twice and will start with a new deck of cards. The game continues each week until the QoH is chosen. \n\n\n\n\nThe Jackpot amount for that week is posted in the bar.  \n\n\n\nThe money collected each week will be added to the following week’s drawing. \n\n\n\nEach week following the drawing\, all remaining raffle tickets are destroyed\, and new raffle tickets must be purchased to participate in the next week’s drawing. \n\n\n\n\nPlease see the chart below for ways to win and the payout schedule. \n\n\n\n\n\n\n\n\nIf the QoH is picked\, that ticket holder wins 50% of the Jackpot if present or 40% if not present.\n\n\n\nIf the QoH is drawn and the individual is not present\, if any of the contact information is missing (name and phone number) or is not legible\, the ticket will be considered void and another ticket will be drawn.\n\n\n\nTo redeem your prizes\, you must present a government issued ID and complete all applicable federal\, state\, and local tax forms.\n\n\n\nThere are multiple ways to win if your ticket is drawn.\n\n\n\n\n\nOfficial Rules\, Terms and Conditions
URL:https://www.magnificentmutts.org/event/queen-of-hearts-raffle-fundraiser-2023/
LOCATION:Yacko’s Bar\, 6636 W Albion Ave\, Niles\, Illinois\, 60714
END:VEVENT
END:VCALENDAR