BEGIN:VCALENDAR
VERSION:2.0
PRODID:-//Magnificent Mutts Rescue - ECPv6.15.12.2//NONSGML v1.0//EN
CALSCALE:GREGORIAN
METHOD:PUBLISH
X-ORIGINAL-URL:https://www.magnificentmutts.org
X-WR-CALDESC:Events for Magnificent Mutts Rescue
REFRESH-INTERVAL;VALUE=DURATION:PT1H
X-Robots-Tag:noindex
X-PUBLISHED-TTL:PT1H
BEGIN:VTIMEZONE
TZID:America/Chicago
BEGIN:DAYLIGHT
TZOFFSETFROM:-0600
TZOFFSETTO:-0500
TZNAME:CDT
DTSTART:20220313T080000
END:DAYLIGHT
BEGIN:STANDARD
TZOFFSETFROM:-0500
TZOFFSETTO:-0600
TZNAME:CST
DTSTART:20221106T070000
END:STANDARD
BEGIN:DAYLIGHT
TZOFFSETFROM:-0600
TZOFFSETTO:-0500
TZNAME:CDT
DTSTART:20230312T080000
END:DAYLIGHT
BEGIN:STANDARD
TZOFFSETFROM:-0500
TZOFFSETTO:-0600
TZNAME:CST
DTSTART:20231105T070000
END:STANDARD
BEGIN:DAYLIGHT
TZOFFSETFROM:-0600
TZOFFSETTO:-0500
TZNAME:CDT
DTSTART:20240310T080000
END:DAYLIGHT
BEGIN:STANDARD
TZOFFSETFROM:-0500
TZOFFSETTO:-0600
TZNAME:CST
DTSTART:20241103T070000
END:STANDARD
END:VTIMEZONE
BEGIN:VEVENT
DTSTART;TZID=America/Chicago:20230909T100000
DTEND;TZID=America/Chicago:20230909T130000
DTSTAMP:20260419T182422
CREATED:20230905T020615Z
LAST-MODIFIED:20230905T020618Z
UID:7189-1694253600-1694264400@www.magnificentmutts.org
SUMMARY:Rescue Dog Adoptions @ Petco
DESCRIPTION:Come to Petco in Elmhurst to meet some of our adoptable rescue dogs and support a local business! To view available dogs and apply for adoption please visit www.magnificentmutts.org/adopt/dogsMagnificent Mutts is a proud Petco Adoption Partner and recipient of a grant from Petco Love.
URL:https://www.magnificentmutts.org/event/rescue-dog-adoptions-petco/
LOCATION:Elmhurst Petco\, 199 S.IL-83\, Elmhurst\, IL\, 60126\, United States
END:VEVENT
END:VCALENDAR