BEGIN:VCALENDAR
VERSION:2.0
PRODID:-//Magnificent Mutts Rescue - ECPv6.15.12.2//NONSGML v1.0//EN
CALSCALE:GREGORIAN
METHOD:PUBLISH
X-ORIGINAL-URL:https://www.magnificentmutts.org
X-WR-CALDESC:Events for Magnificent Mutts Rescue
REFRESH-INTERVAL;VALUE=DURATION:PT1H
X-Robots-Tag:noindex
X-PUBLISHED-TTL:PT1H
BEGIN:VTIMEZONE
TZID:America/Chicago
BEGIN:DAYLIGHT
TZOFFSETFROM:-0600
TZOFFSETTO:-0500
TZNAME:CDT
DTSTART:20240310T080000
END:DAYLIGHT
BEGIN:STANDARD
TZOFFSETFROM:-0500
TZOFFSETTO:-0600
TZNAME:CST
DTSTART:20241103T070000
END:STANDARD
BEGIN:DAYLIGHT
TZOFFSETFROM:-0600
TZOFFSETTO:-0500
TZNAME:CDT
DTSTART:20250309T080000
END:DAYLIGHT
BEGIN:STANDARD
TZOFFSETFROM:-0500
TZOFFSETTO:-0600
TZNAME:CST
DTSTART:20251102T070000
END:STANDARD
BEGIN:DAYLIGHT
TZOFFSETFROM:-0600
TZOFFSETTO:-0500
TZNAME:CDT
DTSTART:20260308T080000
END:DAYLIGHT
BEGIN:STANDARD
TZOFFSETFROM:-0500
TZOFFSETTO:-0600
TZNAME:CST
DTSTART:20261101T070000
END:STANDARD
END:VTIMEZONE
BEGIN:VEVENT
DTSTART;TZID=America/Chicago:20251108T110000
DTEND;TZID=America/Chicago:20251108T130000
DTSTAMP:20260421T110654
CREATED:20251025T004325Z
LAST-MODIFIED:20251025T004326Z
UID:8315-1762599600-1762606800@www.magnificentmutts.org
SUMMARY:Adoption Event ~ Pet Supplies Plus - LaGrange
DESCRIPTION:We are back at Pet Supplies Plus – LaGrange! Meet our adoptable dogs and leave with your new best friend! Say “Hi” to our team and ask about volunteering or fostering\, and learn how you can help make a difference in a dog’s life!
URL:https://www.magnificentmutts.org/event/adoption-event-pet-supplies-plus-lagrange-3/
LOCATION:Pet Supplies Plus La Grange\, 15 N La Grange Road\,\, La Grange\, Illinois\, 60525\, United States
ATTACH;FMTTYPE=image/jpeg:https://www.magnificentmutts.org/wp-content/uploads/2024/06/pspimage.jpg
END:VEVENT
END:VCALENDAR