BEGIN:VCALENDAR
VERSION:2.0
PRODID:-//Magnificent Mutts Rescue - ECPv6.15.20//NONSGML v1.0//EN
CALSCALE:GREGORIAN
METHOD:PUBLISH
X-ORIGINAL-URL:https://www.magnificentmutts.org
X-WR-CALDESC:Events for Magnificent Mutts Rescue
REFRESH-INTERVAL;VALUE=DURATION:PT1H
X-Robots-Tag:noindex
X-PUBLISHED-TTL:PT1H
BEGIN:VTIMEZONE
TZID:America/Chicago
BEGIN:DAYLIGHT
TZOFFSETFROM:-0600
TZOFFSETTO:-0500
TZNAME:CDT
DTSTART:20180311T080000
END:DAYLIGHT
BEGIN:STANDARD
TZOFFSETFROM:-0500
TZOFFSETTO:-0600
TZNAME:CST
DTSTART:20181104T070000
END:STANDARD
BEGIN:DAYLIGHT
TZOFFSETFROM:-0600
TZOFFSETTO:-0500
TZNAME:CDT
DTSTART:20190310T080000
END:DAYLIGHT
BEGIN:STANDARD
TZOFFSETFROM:-0500
TZOFFSETTO:-0600
TZNAME:CST
DTSTART:20191103T070000
END:STANDARD
BEGIN:DAYLIGHT
TZOFFSETFROM:-0600
TZOFFSETTO:-0500
TZNAME:CDT
DTSTART:20200308T080000
END:DAYLIGHT
BEGIN:STANDARD
TZOFFSETFROM:-0500
TZOFFSETTO:-0600
TZNAME:CST
DTSTART:20201101T070000
END:STANDARD
END:VTIMEZONE
BEGIN:VEVENT
DTSTART;TZID=America/Chicago:20190406T100000
DTEND;TZID=America/Chicago:20190406T140000
DTSTAMP:20260424T000616
CREATED:20190112T221626Z
LAST-MODIFIED:20190112T221626Z
UID:5573-1554544800-1554559200@www.magnificentmutts.org
SUMMARY:EACC Easter Adoption Event
DESCRIPTION:Come see our adoptable pets while we are at Elmhurst Animal Care Center for our annual Easter Event with EACC.  Also you will be able to get your pets picture taken with the Easter Bunny for $5.
URL:https://www.magnificentmutts.org/event/eacc-easter-adoption-event/
LOCATION:Elmhurst Animal Care Center\, 850 South Riverside Drive\, Elmhurst\, IL\, 60126\, United States
CATEGORIES:Adoption,Charity,Dogs and Cats
END:VEVENT
END:VCALENDAR