BEGIN:VCALENDAR
VERSION:2.0
PRODID:-//Magnificent Mutts Rescue - ECPv6.15.20//NONSGML v1.0//EN
CALSCALE:GREGORIAN
METHOD:PUBLISH
X-WR-CALNAME:Magnificent Mutts Rescue
X-ORIGINAL-URL:https://www.magnificentmutts.org
X-WR-CALDESC:Events for Magnificent Mutts Rescue
REFRESH-INTERVAL;VALUE=DURATION:PT1H
X-Robots-Tag:noindex
X-PUBLISHED-TTL:PT1H
BEGIN:VTIMEZONE
TZID:America/Chicago
BEGIN:DAYLIGHT
TZOFFSETFROM:-0600
TZOFFSETTO:-0500
TZNAME:CDT
DTSTART:20180311T080000
END:DAYLIGHT
BEGIN:STANDARD
TZOFFSETFROM:-0500
TZOFFSETTO:-0600
TZNAME:CST
DTSTART:20181104T070000
END:STANDARD
BEGIN:DAYLIGHT
TZOFFSETFROM:-0600
TZOFFSETTO:-0500
TZNAME:CDT
DTSTART:20190310T080000
END:DAYLIGHT
BEGIN:STANDARD
TZOFFSETFROM:-0500
TZOFFSETTO:-0600
TZNAME:CST
DTSTART:20191103T070000
END:STANDARD
BEGIN:DAYLIGHT
TZOFFSETFROM:-0600
TZOFFSETTO:-0500
TZNAME:CDT
DTSTART:20200308T080000
END:DAYLIGHT
BEGIN:STANDARD
TZOFFSETFROM:-0500
TZOFFSETTO:-0600
TZNAME:CST
DTSTART:20201101T070000
END:STANDARD
END:VTIMEZONE
BEGIN:VEVENT
DTSTART;TZID=America/Chicago:20191214T110000
DTEND;TZID=America/Chicago:20191214T140000
DTSTAMP:20260423T122242
CREATED:20190701T022630Z
LAST-MODIFIED:20191113T000237Z
UID:5763-1576321200-1576332000@www.magnificentmutts.org
SUMMARY:EACC  Winter Holiday Event
DESCRIPTION:Come join us at EACC for the annual Christmas Event with Miss Chicago\, Vendors\, Pictures with Santa\, and to see some of our adoptable pets. \nAdoptions available from 11am till 2pm. \n \n 
URL:https://www.magnificentmutts.org/event/eacc-winter-holiday-event/
LOCATION:Elmhurst Animal Care Center\, 850 South Riverside Drive\, Elmhurst\, IL\, 60126\, United States
CATEGORIES:Adoption,Dogs and Cats
END:VEVENT
END:VCALENDAR