BEGIN:VCALENDAR
VERSION:2.0
PRODID:-//Magnificent Mutts Rescue - ECPv6.15.12.2//NONSGML v1.0//EN
CALSCALE:GREGORIAN
METHOD:PUBLISH
X-WR-CALNAME:Magnificent Mutts Rescue
X-ORIGINAL-URL:https://www.magnificentmutts.org
X-WR-CALDESC:Events for Magnificent Mutts Rescue
REFRESH-INTERVAL;VALUE=DURATION:PT1H
X-Robots-Tag:noindex
X-PUBLISHED-TTL:PT1H
BEGIN:VTIMEZONE
TZID:America/Chicago
BEGIN:DAYLIGHT
TZOFFSETFROM:-0600
TZOFFSETTO:-0500
TZNAME:CDT
DTSTART:20220313T080000
END:DAYLIGHT
BEGIN:STANDARD
TZOFFSETFROM:-0500
TZOFFSETTO:-0600
TZNAME:CST
DTSTART:20221106T070000
END:STANDARD
BEGIN:DAYLIGHT
TZOFFSETFROM:-0600
TZOFFSETTO:-0500
TZNAME:CDT
DTSTART:20230312T080000
END:DAYLIGHT
BEGIN:STANDARD
TZOFFSETFROM:-0500
TZOFFSETTO:-0600
TZNAME:CST
DTSTART:20231105T070000
END:STANDARD
BEGIN:DAYLIGHT
TZOFFSETFROM:-0600
TZOFFSETTO:-0500
TZNAME:CDT
DTSTART:20240310T080000
END:DAYLIGHT
BEGIN:STANDARD
TZOFFSETFROM:-0500
TZOFFSETTO:-0600
TZNAME:CST
DTSTART:20241103T070000
END:STANDARD
END:VTIMEZONE
BEGIN:VEVENT
DTSTART;TZID=America/Chicago:20231007T110000
DTEND;TZID=America/Chicago:20231007T140000
DTSTAMP:20260419T145959
CREATED:20231003T144408Z
LAST-MODIFIED:20231003T144413Z
UID:7233-1696676400-1696687200@www.magnificentmutts.org
SUMMARY:Autumnfest on the Prairie Path
DESCRIPTION:See flyer for details!Magnificent Mutts Rescue will have dog adoptions from 11-2pm on Saturday. Stop in!
URL:https://www.magnificentmutts.org/event/autumnfest-on-the-prairie-path/
LOCATION:Illinois Prairie Path – Mile Marker 11\, Electric Ave & N Taft Ave\, Berkeley Village\, IL\, 60163\, United States
END:VEVENT
BEGIN:VEVENT
DTSTART;TZID=America/Chicago:20231008T110000
DTEND;TZID=America/Chicago:20231008T160000
DTSTAMP:20260419T145959
CREATED:20230925T212313Z
LAST-MODIFIED:20231002T183627Z
UID:7213-1696762800-1696780800@www.magnificentmutts.org
SUMMARY:Autumnfest on the Prairie Path
DESCRIPTION:Check out the flyer for details!Magnificent Mutts Rescue will be here with merchandise for sale. Stop in! \n\n\n\nNo adoptions on Sunday the 8th.   Adoptions at Autumnfest will be on the 7th only.
URL:https://www.magnificentmutts.org/event/autumnfest-on-the-prairie-path-2/
LOCATION:Illinois Prairie Path – Mile Marker 11\, Electric Ave & N Taft Ave\, Berkeley Village\, IL\, 60163\, United States
END:VEVENT
BEGIN:VEVENT
DTSTART;TZID=America/Chicago:20231014T100000
DTEND;TZID=America/Chicago:20231014T140000
DTSTAMP:20260419T145959
CREATED:20230726T014027Z
LAST-MODIFIED:20231005T023035Z
UID:7153-1697277600-1697292000@www.magnificentmutts.org
SUMMARY:Halloween Mystic Market
DESCRIPTION:10am-2pm: Shopping and Photos \n\n\n\nShop local artists\, crafters\, and vendors.  \n\n\n\nBring your best fur friend in their fun Halloween costume! We have a photographer on hand for $5 photos that will make you smile from ear to furry ear. \n\n\n\n10:00am – 1pm:  Adoptions \n\n\n\nCome fall in love and give a forever home to our magnificent mutts! Your life will be so much better with them in it.
URL:https://www.magnificentmutts.org/event/halloween-mystic-market-2023/
LOCATION:Elmhurst Animal Care Center\, 850 South Riverside Drive\, Elmhurst\, IL\, 60126\, United States
CATEGORIES:Adoption,Dogs,Fundraiser
ATTACH;FMTTYPE=image/jpeg:https://www.magnificentmutts.org/wp-content/uploads/2021/09/Puppies-in-Halloween-Costumes.jpeg
END:VEVENT
BEGIN:VEVENT
DTSTART;TZID=America/Chicago:20231028T110000
DTEND;TZID=America/Chicago:20231028T140000
DTSTAMP:20260419T145959
CREATED:20230925T212613Z
LAST-MODIFIED:20230925T212615Z
UID:7215-1698490800-1698501600@www.magnificentmutts.org
SUMMARY:Rescue Dog Adoptions @ Petco Willowbrook
DESCRIPTION:Come to Petco in Willowbrook to meet some of our adoptable rescue dogs and support a local business! To view available dogs and apply for adoption please visit www.magnificentmutts.org/adopt/dogs
URL:https://www.magnificentmutts.org/event/rescue-dog-adoptions-petco-willowbrook/
LOCATION:Willowbrook Petco\, 6300 Kingery Hwy\, Willowbrook\, IL\, 60527\, United States
END:VEVENT
END:VCALENDAR