BEGIN:VCALENDAR
VERSION:2.0
PRODID:-//Magnificent Mutts Rescue - ECPv6.15.12.2//NONSGML v1.0//EN
CALSCALE:GREGORIAN
METHOD:PUBLISH
X-ORIGINAL-URL:https://www.magnificentmutts.org
X-WR-CALDESC:Events for Magnificent Mutts Rescue
REFRESH-INTERVAL;VALUE=DURATION:PT1H
X-Robots-Tag:noindex
X-PUBLISHED-TTL:PT1H
BEGIN:VTIMEZONE
TZID:America/Chicago
BEGIN:DAYLIGHT
TZOFFSETFROM:-0600
TZOFFSETTO:-0500
TZNAME:CDT
DTSTART:20220313T080000
END:DAYLIGHT
BEGIN:STANDARD
TZOFFSETFROM:-0500
TZOFFSETTO:-0600
TZNAME:CST
DTSTART:20221106T070000
END:STANDARD
BEGIN:DAYLIGHT
TZOFFSETFROM:-0600
TZOFFSETTO:-0500
TZNAME:CDT
DTSTART:20230312T080000
END:DAYLIGHT
BEGIN:STANDARD
TZOFFSETFROM:-0500
TZOFFSETTO:-0600
TZNAME:CST
DTSTART:20231105T070000
END:STANDARD
BEGIN:DAYLIGHT
TZOFFSETFROM:-0600
TZOFFSETTO:-0500
TZNAME:CDT
DTSTART:20240310T080000
END:DAYLIGHT
BEGIN:STANDARD
TZOFFSETFROM:-0500
TZOFFSETTO:-0600
TZNAME:CST
DTSTART:20241103T070000
END:STANDARD
END:VTIMEZONE
BEGIN:VEVENT
DTSTART;TZID=America/Chicago:20231202T100000
DTEND;TZID=America/Chicago:20231202T130000
DTSTAMP:20260419T112526
CREATED:20230726T014520Z
LAST-MODIFIED:20231130T214417Z
UID:7159-1701511200-1701522000@www.magnificentmutts.org
SUMMARY:Adoption Event @American Tails
DESCRIPTION:Come to American Tails pet supply store in Lombard to meet some of our adoptable rescue dogs and support a local business! To view available dogs and apply for adoption please visit www.magnificentmutts.org/adopt/dogs
URL:https://www.magnificentmutts.org/event/holiday-adoption-event-2023/
LOCATION:American Tails\, 1110 S Main St\, Lombard\, IL\, 60148\, United States
CATEGORIES:Adoption,Dogs,Exhibition,Fundraiser
END:VEVENT
BEGIN:VEVENT
DTSTART;TZID=America/Chicago:20231216T100000
DTEND;TZID=America/Chicago:20231216T130000
DTSTAMP:20260419T112527
CREATED:20231216T050159Z
LAST-MODIFIED:20231216T050200Z
UID:7353-1702720800-1702731600@www.magnificentmutts.org
SUMMARY:Adoption Event @ Petco
DESCRIPTION:We’re having a rescue dog adoption event at Petco in Elmhurst IL! Come meet some of our adoptable rescues and support a local business! To view available dogs and apply for adoption please visit www.magnificentmutts.org/adopt/dogs \n\n\n\nMagnificent Mutts is a proud Petco Adoption Partner and recipient of a grant from Petco Love.
URL:https://www.magnificentmutts.org/event/adoption-event-elmhurst-petco-12-16-23/
LOCATION:Elmhurst Petco\, 199 S.IL-83\, Elmhurst\, IL\, 60126\, United States
END:VEVENT
BEGIN:VEVENT
DTSTART;TZID=America/Chicago:20231218T180000
DTEND;TZID=America/Chicago:20231218T200000
DTSTAMP:20260419T112527
CREATED:20231206T023247Z
LAST-MODIFIED:20231206T023938Z
UID:7317-1702922400-1702929600@www.magnificentmutts.org
SUMMARY:Adoption Event @ Downers Sand Club
DESCRIPTION:Join us at Downers Sand Club and meet our amazing adoptable rescue dogs! To view available dogs and apply for adoption please visit www.magnificentmutts.org/adopt/dogs
URL:https://www.magnificentmutts.org/event/adoption-event-downers-sand-club-12-18-23/
LOCATION:Downers Sand Club Sports Bar & Grill\, 1211 Butterfield Rd b\, Downers Grove\, IL\, 60515
END:VEVENT
END:VCALENDAR