BEGIN:VCALENDAR
VERSION:2.0
PRODID:-//Magnificent Mutts Rescue - ECPv6.15.12.2//NONSGML v1.0//EN
CALSCALE:GREGORIAN
METHOD:PUBLISH
X-WR-CALNAME:Magnificent Mutts Rescue
X-ORIGINAL-URL:https://www.magnificentmutts.org
X-WR-CALDESC:Events for Magnificent Mutts Rescue
REFRESH-INTERVAL;VALUE=DURATION:PT1H
X-Robots-Tag:noindex
X-PUBLISHED-TTL:PT1H
BEGIN:VTIMEZONE
TZID:America/Chicago
BEGIN:DAYLIGHT
TZOFFSETFROM:-0600
TZOFFSETTO:-0500
TZNAME:CDT
DTSTART:20250309T080000
END:DAYLIGHT
BEGIN:STANDARD
TZOFFSETFROM:-0500
TZOFFSETTO:-0600
TZNAME:CST
DTSTART:20251102T070000
END:STANDARD
BEGIN:DAYLIGHT
TZOFFSETFROM:-0600
TZOFFSETTO:-0500
TZNAME:CDT
DTSTART:20260308T080000
END:DAYLIGHT
BEGIN:STANDARD
TZOFFSETFROM:-0500
TZOFFSETTO:-0600
TZNAME:CST
DTSTART:20261101T070000
END:STANDARD
BEGIN:DAYLIGHT
TZOFFSETFROM:-0600
TZOFFSETTO:-0500
TZNAME:CDT
DTSTART:20270314T080000
END:DAYLIGHT
BEGIN:STANDARD
TZOFFSETFROM:-0500
TZOFFSETTO:-0600
TZNAME:CST
DTSTART:20271107T070000
END:STANDARD
END:VTIMEZONE
BEGIN:VEVENT
DTSTART;TZID=America/Chicago:20260307T110000
DTEND;TZID=America/Chicago:20260307T130000
DTSTAMP:20260421T094520
CREATED:20260202T230057Z
LAST-MODIFIED:20260202T230059Z
UID:8374-1772881200-1772888400@www.magnificentmutts.org
SUMMARY:Adoption Event ~ Petco - Elmhurst
DESCRIPTION:We are back at Petco Elmhurst this week ! Stop by to meet our Mutts and find your new best friend! Thinking about fostering? Come and speak with our team and our fosters to find out what it’s all about!
URL:https://www.magnificentmutts.org/event/adoption-event-petco-elmhurst-6/
LOCATION:Elmhurst Petco\, 199 S.IL-83\, Elmhurst\, IL\, 60126\, United States
ATTACH;FMTTYPE=image/png:https://www.magnificentmutts.org/wp-content/uploads/2024/06/petcologo.png
END:VEVENT
BEGIN:VEVENT
DTSTART;TZID=America/Chicago:20260314T100000
DTEND;TZID=America/Chicago:20260314T140000
DTSTAMP:20260421T094520
CREATED:20260104T193726Z
LAST-MODIFIED:20260210T213734Z
UID:8351-1773482400-1773496800@www.magnificentmutts.org
SUMMARY:Annual Easter Adoption & Craft Fair
DESCRIPTION:Hippity Hoppity Easter is here! Come out to this fun family friendly event!  Meet our adoptable pups and get your photos taken with the Easter Bunny! More Info as we get closer to the date.  \n\n\n\n\n\nCrafters include: Scentsy ~  Tupperware ~ GiardinotwinsE (clay flowers) ~ Corrado Candle Co ~ \n\n\n\nFleece Blankets ~  Pup Pup’s Shop (snuffle mats)  ~  Impressive Interiors
URL:https://www.magnificentmutts.org/event/annual-easter-adoption-craft-fair/
LOCATION:Elmhurst Animal Care Center\, 850 South Riverside Drive\, Elmhurst\, IL\, 60126\, United States
ATTACH;FMTTYPE=image/png:https://www.magnificentmutts.org/wp-content/uploads/2026/01/Easter2026-1.png
END:VEVENT
BEGIN:VEVENT
DTSTART;TZID=America/Chicago:20260322T110000
DTEND;TZID=America/Chicago:20260322T140000
DTSTAMP:20260421T094520
CREATED:20260202T231010Z
LAST-MODIFIED:20260202T231012Z
UID:8376-1774177200-1774188000@www.magnificentmutts.org
SUMMARY:Adoption Event ~ Kriser's Westchester
DESCRIPTION:We are happy to welcome Kriser to our area! We will be helping them celebrate their Grand Opening weekend. Come in and meet with our adoptable Mutts and stay for the party!
URL:https://www.magnificentmutts.org/event/adoption-event-krisers-westchester/
LOCATION:Kriser’s Westchester\, 3042 Wolf Rd\, Westchester\, Illinois\, 60154\, United States
ATTACH;FMTTYPE=image/png:https://www.magnificentmutts.org/wp-content/uploads/2026/02/krisers.png
END:VEVENT
BEGIN:VEVENT
DTSTART;TZID=America/Chicago:20260328T110000
DTEND;TZID=America/Chicago:20260328T130000
DTSTAMP:20260421T094520
CREATED:20260322T205048Z
LAST-MODIFIED:20260322T205133Z
UID:8418-1774695600-1774702800@www.magnificentmutts.org
SUMMARY:Adoption Event ~ Pet Supplies Plus ~ LaGrange
DESCRIPTION:Come out and meet with our team and our current available dogs! Looking to foster or volunteer and help make a difference? Stop by and talk to our team to find out about all the wonderful roles we have!
URL:https://www.magnificentmutts.org/event/adoption-event-pet-supplies-plus-lagrange-5/
LOCATION:Pet Supplies Plus La Grange\, 15 N La Grange Road\,\, La Grange\, Illinois\, 60525\, United States
CATEGORIES:Adoption,Dogs
ATTACH;FMTTYPE=image/jpeg:https://www.magnificentmutts.org/wp-content/uploads/2024/06/pspimage.jpg
END:VEVENT
END:VCALENDAR